BEGIN:VCALENDAR
VERSION:2.0
PRODID:-//Plone.org//NONSGML plone.app.event//EN
X-WR-TIMEZONE:Europe/Vienna
BEGIN:VEVENT
SUMMARY:FWF | Elise Richter PEEK
DTSTART;TZID=Europe/Vienna:20200529T140000
DTSTAMP:20260424T133405Z
UID:6069d6627f99888e2f4e2f28afbcaba1@www.akbild.ac.at
CREATED:20220312T184532Z
DESCRIPTION:Highly qualified female arts-based researchers\, who strive fo
 r a university career are invited to apply for the Elise Richter PEEK prog
 ramme. The programme aims to support the academic career of highly qualifi
 ed female arts-based researchers and to enhance their university career. A
 fter  completion of the program\, a level of qualification should be  acco
 mplished which enables participants to apply for a local  professorship or
  a professorship abroad ("Habilitation" or equal qualification).
LAST-MODIFIED:20240802T103242Z
URL:https://www.akbild.ac.at/en/research/art-research-service/calls-contes
 ts/2020/fwf-elise-richter-peek
END:VEVENT
BEGIN:VTIMEZONE
TZID:Europe/Vienna
X-LIC-LOCATION:Europe/Vienna
BEGIN:DAYLIGHT
DTSTART:20200329T030000
TZNAME:CEST
TZOFFSETFROM:+0100
TZOFFSETTO:+0200
END:DAYLIGHT
END:VTIMEZONE
END:VCALENDAR
