BEGIN:VCALENDAR
VERSION:2.0
PRODID:-//Plone.org//NONSGML plone.app.event//EN
X-WR-TIMEZONE:Europe/Vienna
BEGIN:VEVENT
SUMMARY:FWF | Elise Richter Programme
DTSTART;TZID=Europe/Vienna:20200529T140000
DTSTAMP:20260424T133120Z
UID:7a30c54a3581fdf9ff84bf06bfc96158@www.akbild.ac.at
CREATED:20220312T184531Z
DESCRIPTION:Highly qualified female scientists and scholars of any discipl
 ine\, who strive for an university career are invited to apply to the Elis
 e Richter Programme. The aim of the programme is to support the academic c
 areer of highly qualified female scientists and scholars and to enhance th
 eir university career. After  completion of the program\, a level of quali
 fication should be  accomplished which enables participants to apply for l
 ocal  professorship or a professorship abroad ("Habilitation" or equal qua
 lification.
LAST-MODIFIED:20240802T103242Z
URL:https://www.akbild.ac.at/en/research/art-research-service/calls-contes
 ts/2020/fwf-elise-richter-programm
END:VEVENT
BEGIN:VTIMEZONE
TZID:Europe/Vienna
X-LIC-LOCATION:Europe/Vienna
BEGIN:DAYLIGHT
DTSTART:20200329T030000
TZNAME:CEST
TZOFFSETFROM:+0100
TZOFFSETTO:+0200
END:DAYLIGHT
END:VTIMEZONE
END:VCALENDAR
