BEGIN:VCALENDAR
VERSION:2.0
PRODID:-//Plone.org//NONSGML plone.app.event//EN
X-WR-TIMEZONE:Europe/Vienna
BEGIN:VEVENT
SUMMARY:FWF | Research Groups
DTSTART;TZID=Europe/Vienna:20200930T140000
DTSTAMP:20260425T030228Z
UID:45ce2cb1479148efb8d187c5bb56a4ae@www.akbild.ac.at
CREATED:20220312T184710Z
DESCRIPTION:Three to five outstanding female and male researchers can work
  together in a research group.
LAST-MODIFIED:20240802T103242Z
URL:https://www.akbild.ac.at/en/research/art-research-service/calls-contes
 ts/2020/fwf-forschungsgruppen
END:VEVENT
BEGIN:VTIMEZONE
TZID:Europe/Vienna
X-LIC-LOCATION:Europe/Vienna
BEGIN:DAYLIGHT
DTSTART:20200329T030000
TZNAME:CEST
TZOFFSETFROM:+0100
TZOFFSETTO:+0200
END:DAYLIGHT
END:VTIMEZONE
END:VCALENDAR
