BEGIN:VCALENDAR
VERSION:2.0
PRODID:-//Plone.org//NONSGML plone.app.event//EN
X-WR-TIMEZONE:Europe/Vienna
BEGIN:VEVENT
SUMMARY:FWF | Hertha Firnberg Programme
DTSTART;TZID=Europe/Vienna:20200529T140000
DTSTAMP:20260424T120614Z
UID:c1a07a09e74693870d477a3f8b9b6ee9@www.akbild.ac.at
CREATED:20220312T184529Z
DESCRIPTION:Highly qualified female scientists of any scientific disciplin
 e\, who have completed their university studies can apply for the Hertha F
 irnberg Programme. The aim of the programme is to improve the career prosp
 ects for women in Austrian research facilities and to provide generous sup
 port during the postdoc phase for women at the start of  their scientific 
 careers or on its resumption following maternity leave.
LAST-MODIFIED:20240802T103242Z
URL:https://www.akbild.ac.at/en/research/art-research-service/calls-contes
 ts/2020/fwf-hertha-firnberg-programm
END:VEVENT
BEGIN:VTIMEZONE
TZID:Europe/Vienna
X-LIC-LOCATION:Europe/Vienna
BEGIN:DAYLIGHT
DTSTART:20200329T030000
TZNAME:CEST
TZOFFSETFROM:+0100
TZOFFSETTO:+0200
END:DAYLIGHT
END:VTIMEZONE
END:VCALENDAR
