BEGIN:VCALENDAR
VERSION:2.0
PRODID:-//Plone.org//NONSGML plone.app.event//EN
X-WR-TIMEZONE:Europe/Vienna
BEGIN:VEVENT
SUMMARY:FWF | Start Programme
DTSTART;TZID=Europe/Vienna:20200918T125500
DTSTAMP:20260419T162134Z
UID:80926495dd73595cedf4435b6851e15d@www.akbild.ac.at
CREATED:20220312T184655Z
DESCRIPTION:Outstanding young researchers of any discipline with two or mo
 re years research experience as Postdoc.
LAST-MODIFIED:20240802T103242Z
URL:https://www.akbild.ac.at/en/research/art-research-service/calls-contes
 ts/2020/fwf-start-programm
END:VEVENT
BEGIN:VTIMEZONE
TZID:Europe/Vienna
X-LIC-LOCATION:Europe/Vienna
BEGIN:DAYLIGHT
DTSTART:20200329T030000
TZNAME:CEST
TZOFFSETFROM:+0100
TZOFFSETTO:+0200
END:DAYLIGHT
END:VTIMEZONE
END:VCALENDAR
