BEGIN:VCALENDAR
VERSION:2.0
PRODID:-//Plone.org//NONSGML plone.app.event//EN
X-WR-TIMEZONE:Europe/Vienna
BEGIN:VEVENT
SUMMARY:FWF | Science Communication Programme 2020
DTSTART;VALUE=DATE:20200909
DTEND;VALUE=DATE:20200910
DTSTAMP:20260423T191738Z
UID:15ac3fd6c5605d37dbee69661425c167@www.akbild.ac.at
CREATED:20220312T184646Z
DESCRIPTION:The programme supports initiatives that aim to communicate the
  content of FWF-funded research projects to the public\, schools\, media\,
  politicians and the scientific community in the best way possible. Funded
  projects are intended to help increase public awareness of science and re
 search as well as the importance of basic research.
LAST-MODIFIED:20240802T103242Z
URL:https://www.akbild.ac.at/en/research/art-research-service/calls-contes
 ts/2020/fwf-wissenschaftskommunikationsprogramm-2020
END:VEVENT
END:VCALENDAR
