BEGIN:VCALENDAR
VERSION:2.0
PRODID:-//Plone.org//NONSGML plone.app.event//EN
X-WR-TIMEZONE:Europe/Vienna
BEGIN:VEVENT
SUMMARY:Salzburg International Summer Academy of Fine Arts | Grants
DTSTART;VALUE=DATE:20200401
DTEND;VALUE=DATE:20200402
DTSTAMP:20260419T125042Z
UID:adaadf157a3859ae6ac932f62af78531@www.akbild.ac.at
CREATED:20220312T184433Z
DESCRIPTION:Some 80 grants are available  for participation in one of the 
 classes at the Summer Academy.
LAST-MODIFIED:20240802T103242Z
URL:https://www.akbild.ac.at/en/research/art-research-service/calls-contes
 ts/2020/internationale-sommerakademie-fuer-bildende-kunst-salzburg-stipend
 ien
END:VEVENT
END:VCALENDAR
