BEGIN:VCALENDAR
VERSION:2.0
PRODID:-//Plone.org//NONSGML plone.app.event//EN
X-WR-TIMEZONE:Europe/Vienna
BEGIN:VEVENT
SUMMARY:Luxembourg Art Prize
DTSTART;VALUE=DATE:20200430
DTEND;VALUE=DATE:20200501
DTSTAMP:20260424T145755Z
UID:8939ff07a2487bfc13adf8dfbca10bd9@www.akbild.ac.at
CREATED:20220312T184442Z
DESCRIPTION:The Luxembourg Art Prize is an annual international prize orga
 nized by the Pinacotheque\, a private\, non-profit museum located in the G
 rand Duchy of Luxembourg. Every year the Prize aims to discover talents\, 
 amateur or professional\, regardless of age and nationality.
LAST-MODIFIED:20240802T103242Z
URL:https://www.akbild.ac.at/en/research/art-research-service/calls-contes
 ts/2020/luxembourg-art-prize
END:VEVENT
END:VCALENDAR
