BEGIN:VCALENDAR
VERSION:2.0
PRODID:-//Plone.org//NONSGML plone.app.event//EN
X-WR-TIMEZONE:Europe/Vienna
BEGIN:VEVENT
SUMMARY:Mauthausen Committee Austria and Austrian Camp Community Mauthause
 n | Hans Maršálek Award
DTSTART;VALUE=DATE:20201130
DTEND;VALUE=DATE:20201201
DTSTAMP:20260425T192839Z
UID:3eb65865c3cde6eceebe25030630011a@www.akbild.ac.at
CREATED:20220312T184744Z
DESCRIPTION:The Mauthausen Committee Austria and the Austrian Camp Communi
 ty Mauthausen will endow the Hans Maršálek Award in 2021 in fulfilment o
 f the legacy of the Austrian Camp Community Mauthausen for outstanding ach
 ievements in the fields of commemoration\, remembrance and awareness raisi
 ng.
LAST-MODIFIED:20240802T103243Z
URL:https://www.akbild.ac.at/en/research/art-research-service/calls-contes
 ts/2020/mauthausen-komitee-oesterreich-und-oesterreichische-lagergemeinsch
 aft-mauthausen-hans-marsalek-preis
END:VEVENT
END:VCALENDAR
