BEGIN:VCALENDAR
VERSION:2.0
PRODID:-//Plone.org//NONSGML plone.app.event//EN
X-WR-TIMEZONE:Europe/Vienna
BEGIN:VEVENT
SUMMARY:OeAD | Scientific and Technological Cooperation Czech Republic
DTSTART;TZID=Europe/Vienna:20200605T120000
DTSTAMP:20260422T055311Z
UID:422479b26ea22f2270cf9f6d397b95b7@www.akbild.ac.at
CREATED:20220312T184551Z
LAST-MODIFIED:20240802T103242Z
URL:https://www.akbild.ac.at/en/research/art-research-service/calls-contes
 ts/2020/oead-wissenschaftlich-technische-zusammenarbeit-tschechien
END:VEVENT
BEGIN:VTIMEZONE
TZID:Europe/Vienna
X-LIC-LOCATION:Europe/Vienna
BEGIN:DAYLIGHT
DTSTART:20200329T030000
TZNAME:CEST
TZOFFSETFROM:+0100
TZOFFSETTO:+0200
END:DAYLIGHT
END:VTIMEZONE
END:VCALENDAR
