BEGIN:VCALENDAR
VERSION:2.0
PRODID:-//Plone.org//NONSGML plone.app.event//EN
X-WR-TIMEZONE:Europe/Vienna
BEGIN:VEVENT
SUMMARY:Open Call | Spring Curatorial Program 2020: Art Geographies
DTSTART;VALUE=DATE:20200310
DTEND;VALUE=DATE:20200311
DTSTAMP:20260425T232502Z
UID:1f92b176f0d4b85fccc0380a0a2749ec@www.akbild.ac.at
CREATED:20220312T184414Z
DESCRIPTION:Verein K is proud to launch Spring Curatorial Program in Vienn
 a\, Austria. The first edition Spring Curatorial Program 2020: Art Geograp
 hies is organized in collaboration between Verein K and the Institute for 
 Art Theory and Cultural Studies at the Academy of Fine Arts Vienna.
LAST-MODIFIED:20240802T103238Z
URL:https://www.akbild.ac.at/en/research/art-research-service/calls-contes
 ts/2020/open-call-spring-curatorial-program-2020-art-geographies
END:VEVENT
END:VCALENDAR
