BEGIN:VCALENDAR
VERSION:2.0
PRODID:-//Plone.org//NONSGML plone.app.event//EN
X-WR-TIMEZONE:Europe/Vienna
BEGIN:VEVENT
SUMMARY:Performance Research | On (Un)Knowns
DTSTART;VALUE=DATE:20200615
DTEND;VALUE=DATE:20200616
DTSTAMP:20260424T133259Z
UID:ec4a54153cfff9957fb95bb05901754e@www.akbild.ac.at
CREATED:20220312T184615Z
DESCRIPTION:This issue of Performance Research is concerned with the idea 
 of knowledge in relation to performing arts practices\, specifically the t
 ypes of knowledge involved in creation\, training\, production\, performan
 ce and spectatorship.
LAST-MODIFIED:20240802T103242Z
URL:https://www.akbild.ac.at/en/research/art-research-service/calls-contes
 ts/2020/performance-research-on-un-knowns
END:VEVENT
END:VCALENDAR
