BEGIN:VCALENDAR
VERSION:2.0
PRODID:-//Plone.org//NONSGML plone.app.event//EN
X-WR-TIMEZONE:Europe/Vienna
BEGIN:VEVENT
SUMMARY:Photon | International photography competition
DTSTART;VALUE=DATE:20200930
DTEND;VALUE=DATE:20201001
DTSTAMP:20260423T192906Z
UID:3fb08c7bcb143aa8e406421f8c59b530@www.akbild.ac.at
CREATED:20220312T184709Z
DESCRIPTION:Open call for young and emerging artists in the field of conte
 mporary art photography organized by Photon Gallery – Centre for Contemp
 orary Photography from Ljubljana is running in its 8th edition this year.
LAST-MODIFIED:20240802T103242Z
URL:https://www.akbild.ac.at/en/research/art-research-service/calls-contes
 ts/2020/photon-fotowettbewerb-different-worlds
END:VEVENT
END:VCALENDAR
