BEGIN:VCALENDAR
VERSION:2.0
PRODID:-//Plone.org//NONSGML plone.app.event//EN
X-WR-TIMEZONE:Europe/Vienna
BEGIN:VEVENT
SUMMARY:Tricky Women | Tricky Realities 2021
DTSTART;VALUE=DATE:20201001
DTEND;VALUE=DATE:20201002
DTSTAMP:20260423T084459Z
UID:242615cc2212eba96759fd491e8ca46c@www.akbild.ac.at
CREATED:20220312T184713Z
DESCRIPTION:The festival will take place in March 2021. Submissions for it
  are possible from now on.
LAST-MODIFIED:20240802T103242Z
URL:https://www.akbild.ac.at/en/research/art-research-service/calls-contes
 ts/2020/tricky-women-tricky-realities-2021
END:VEVENT
END:VCALENDAR
