BEGIN:VCALENDAR
VERSION:2.0
PRODID:-//Plone.org//NONSGML plone.app.event//EN
X-WR-TIMEZONE:Europe/Vienna
BEGIN:VEVENT
SUMMARY:Academy Studio Program 2021/22
DTSTART;TZID=Europe/Vienna:20210607T120000
DTSTAMP:20260424T032853Z
UID:a5732c922a37597143faf555afd02fe2@www.akbild.ac.at
CREATED:20220312T185114Z
DESCRIPTION:As part of the studio funding program for graduates of the Aca
 demy of Fine Arts Vienna the scholarship holders can move into a studio sp
 ace in twos or threes in the\n \n  Creative Cluster\n \n in the 5th distri
 ct of Vienna.
LAST-MODIFIED:20240802T103247Z
URL:https://www.akbild.ac.at/en/research/art-research-service/calls-contes
 ts/2021/academy-studio-program-2021-22
END:VEVENT
BEGIN:VTIMEZONE
TZID:Europe/Vienna
X-LIC-LOCATION:Europe/Vienna
BEGIN:DAYLIGHT
DTSTART:20210328T030000
TZNAME:CEST
TZOFFSETFROM:+0100
TZOFFSETTO:+0200
END:DAYLIGHT
END:VTIMEZONE
END:VCALENDAR
