BEGIN:VCALENDAR
VERSION:2.0
PRODID:-//Plone.org//NONSGML plone.app.event//EN
X-WR-TIMEZONE:Europe/Vienna
BEGIN:VEVENT
SUMMARY:AIAS-COFUND Marie Skłodowska-Curie Fellowships 2021-2022
DTSTART;TZID=Europe/Vienna:20210115T120000
DTSTAMP:20260424T132446Z
UID:19e411caa1d5d4351376dd73caeef5b7@www.akbild.ac.at
CREATED:20220312T184839Z
DESCRIPTION:AIAS-COFUND II Marie Skłodowska-Curie Fellowships 2021-2022\n
  \n \n Up to 15 AIAS-COFUND fellowships are available for the most talente
 d researchers from around the world and within all research disciplines an
 d topics. The scheme is funded by the European Union’s Horizon 2020 Rese
 arch and Innovation Programme under the Marie Skłodowska-Curie actions (g
 rant agreement no 754513) and Aarhus University Research Foundation.
LAST-MODIFIED:20240802T103247Z
URL:https://www.akbild.ac.at/en/research/art-research-service/calls-contes
 ts/2021/aias-cofund-marie-sk142odowska-curie-fellowships-2021-2022
END:VEVENT
BEGIN:VTIMEZONE
TZID:Europe/Vienna
X-LIC-LOCATION:Europe/Vienna
BEGIN:STANDARD
DTSTART:20201025T020000
TZNAME:CET
TZOFFSETFROM:+0200
TZOFFSETTO:+0100
END:STANDARD
END:VTIMEZONE
END:VCALENDAR
