BEGIN:VCALENDAR
VERSION:2.0
PRODID:-//Plone.org//NONSGML plone.app.event//EN
X-WR-TIMEZONE:Europe/Vienna
BEGIN:VEVENT
SUMMARY:Call | Lectureship Program For Doctoral Candidates 2021-22
DTSTART;TZID=Europe/Vienna:20210316T110000
DTSTAMP:20260421T224219Z
UID:9c264bf5f24ee4305d579e2061847fe4@www.akbild.ac.at
CREATED:20220312T184933Z
DESCRIPTION:Promotion of early stage researchers for the obtainment and ad
 vancement of teaching competences for doctoral candidates
LAST-MODIFIED:20240802T103247Z
URL:https://www.akbild.ac.at/en/research/art-research-service/calls-contes
 ts/2021/ausschreibung-lektor_innenprogramm-fuer-doktorand_innen-2021-22
END:VEVENT
BEGIN:VTIMEZONE
TZID:Europe/Vienna
X-LIC-LOCATION:Europe/Vienna
BEGIN:STANDARD
DTSTART:20201025T020000
TZNAME:CET
TZOFFSETFROM:+0200
TZOFFSETTO:+0100
END:STANDARD
END:VTIMEZONE
END:VCALENDAR
