BEGIN:VCALENDAR
VERSION:2.0
PRODID:-//Plone.org//NONSGML plone.app.event//EN
X-WR-TIMEZONE:Europe/Vienna
BEGIN:VEVENT
SUMMARY:Call Lettner/Lemberger scholarship for supporting final degrees
DTSTART;TZID=Europe/Vienna:20210309T110000
DTSTAMP:20260426T034704Z
UID:60185ad2a5af57242eae8517fe0b2c0d@www.akbild.ac.at
CREATED:20220312T184926Z
DESCRIPTION:A cooperation between the Academy of Fine Arts Vienna and Irmg
 ard Lettner &amp\; Ernst Lemberger.
LAST-MODIFIED:20240802T103247Z
URL:https://www.akbild.ac.at/en/research/art-research-service/calls-contes
 ts/2021/ausschreibung-lettner-lemberger-wohn-und-atelierstipendium-2021-22
END:VEVENT
BEGIN:VTIMEZONE
TZID:Europe/Vienna
X-LIC-LOCATION:Europe/Vienna
BEGIN:STANDARD
DTSTART:20201025T020000
TZNAME:CET
TZOFFSETFROM:+0200
TZOFFSETTO:+0100
END:STANDARD
END:VTIMEZONE
END:VCALENDAR
