BEGIN:VCALENDAR
VERSION:2.0
PRODID:-//Plone.org//NONSGML plone.app.event//EN
X-WR-TIMEZONE:Europe/Vienna
BEGIN:VEVENT
SUMMARY:Be Open and Cumuls | Design for Sustainable Cities
DTSTART;VALUE=DATE:20210131
DTEND;VALUE=DATE:20210201
DTSTAMP:20260426T021429Z
UID:f550c7d56f873212543aa5fc9f2f7387@www.akbild.ac.at
CREATED:20220312T184859Z
DESCRIPTION:Design for Sustainable Cities is an international student comp
 etition. It is open to students and graduates of all art\, design\, archit
 ecture and media disciplines of universities and colleges worldwide. The c
 ompetition aims to encourage creation of innovative solutions\, by younger
  creatives\, for more sustainable cities.
LAST-MODIFIED:20240802T103247Z
URL:https://www.akbild.ac.at/en/research/art-research-service/calls-contes
 ts/2021/be-open-und-cumulus-design-for-sustainable-cities
END:VEVENT
END:VCALENDAR
