BEGIN:VCALENDAR
VERSION:2.0
PRODID:-//Plone.org//NONSGML plone.app.event//EN
X-WR-TIMEZONE:Europe/Vienna
BEGIN:VEVENT
SUMMARY:BMBWF | Doctoral Research Fellowships New Orleans and Edmonton
DTSTART;VALUE=DATE:20210426
DTEND;VALUE=DATE:20210427
DTSTAMP:20260425T195517Z
UID:a10bf6a575667664bdcd2b3c0bca0c86@www.akbild.ac.at
CREATED:20220312T185018Z
DESCRIPTION:The Austria Centers offer ten- or twelve-month research stays 
 for highly qualified doctoral students from Austrian universities or unive
 rsities with an Austria Center.
LAST-MODIFIED:20240802T103247Z
URL:https://www.akbild.ac.at/en/research/art-research-service/calls-contes
 ts/2021/bmbwf-doctoral-research-fellowships-der-oesterreich-zentren
END:VEVENT
END:VCALENDAR
