BEGIN:VCALENDAR
VERSION:2.0
PRODID:-//Plone.org//NONSGML plone.app.event//EN
X-WR-TIMEZONE:Europe/Vienna
BEGIN:VEVENT
SUMMARY:Brut | Residency and presentation at imagetanz 2022
DTSTART;VALUE=DATE:20211103
DTEND;VALUE=DATE:20211104
DTSTAMP:20260423T114340Z
UID:7b6eda3b4f45f46dd741e2cf42ce5438@www.akbild.ac.at
CREATED:20220312T185246Z
DESCRIPTION:Within the format\n \n  Handle with care\n \n brut regularly o
 pens rehearsal  processes to the public and creates space for dialogue and
  exchange.  Artists try out parts of their work in front of a small audien
 ce\,  collect feedback and turn spectators into accomplices.
LAST-MODIFIED:20240802T103251Z
URL:https://www.akbild.ac.at/en/research/art-research-service/calls-contes
 ts/2021/brut-residenz-und-praesentation-bei-imagetanz-2022
END:VEVENT
END:VCALENDAR
