BEGIN:VCALENDAR
VERSION:2.0
PRODID:-//Plone.org//NONSGML plone.app.event//EN
X-WR-TIMEZONE:Europe/Vienna
BEGIN:VEVENT
SUMMARY:Call Exhibition Participation | Thicket of Ideas - Thicket of Time
 s. Students of the Academy in dialogue with Raqs Media Collective
DTSTART;TZID=Europe/Vienna:20210331T110000
DTSTAMP:20260419T150457Z
UID:11bbdc62b0137da3271a0a9ad697b866@www.akbild.ac.at
CREATED:20220312T184950Z
DESCRIPTION:With this open call\, the Academy of Fine Arts Vienna invites 
 students to submit art works and project ideas for participation in the ex
 hibition "Thicket of Ideas - Thicket of Times. Students of the Academy in 
 Dialogue with Raqs Media Collective". For the presentation works and conce
 pts are searched for that engage with the holdings of the Academy’s coll
 ections from a decolonial perspective. The presentation will coincide with
  the reopening of the Academy in the contemporary exhibition space at Schi
 llerplatz and is envisaged as a parallel exhibition to the collection pres
 entation Hungry for Time curated by Raqs Media Collective in the Gemäldeg
 alerie.
LAST-MODIFIED:20240802T103247Z
URL:https://www.akbild.ac.at/en/research/art-research-service/calls-contes
 ts/2021/call-ausstellungsbeteiligung-thicket-of-ideas-2013-thicket-of-time
 s.-studierende-der-akademie-im-dialog-mit-raqs-media-collective
END:VEVENT
BEGIN:VTIMEZONE
TZID:Europe/Vienna
X-LIC-LOCATION:Europe/Vienna
BEGIN:DAYLIGHT
DTSTART:20210328T030000
TZNAME:CEST
TZOFFSETFROM:+0100
TZOFFSETTO:+0200
END:DAYLIGHT
END:VTIMEZONE
END:VCALENDAR
