BEGIN:VCALENDAR
VERSION:2.0
PRODID:-//Plone.org//NONSGML plone.app.event//EN
X-WR-TIMEZONE:Europe/Vienna
BEGIN:VEVENT
SUMMARY:Call Poster 100 Years | She* came and stayed
DTSTART;TZID=Europe/Vienna:20210222T180000
DTSTAMP:20260421T213439Z
UID:88650a820c7eac3f78c63d3581116ba8@www.akbild.ac.at
CREATED:20220312T184909Z
DESCRIPTION:The Academy of Fine Arts Vienna invites students of the Academ
 y to submit designs for a poster for the event series 100 Years - "She* ca
 me and stayed". The competition is open to ordinary students of all instit
 utes.
LAST-MODIFIED:20240802T103247Z
URL:https://www.akbild.ac.at/en/research/art-research-service/calls-contes
 ts/2021/call-plakat-100-jahre-sie-kam-und-blieb
END:VEVENT
BEGIN:VTIMEZONE
TZID:Europe/Vienna
X-LIC-LOCATION:Europe/Vienna
BEGIN:STANDARD
DTSTART:20201025T020000
TZNAME:CET
TZOFFSETFROM:+0200
TZOFFSETTO:+0100
END:STANDARD
END:VTIMEZONE
END:VCALENDAR
