BEGIN:VCALENDAR
VERSION:2.0
PRODID:-//Plone.org//NONSGML plone.app.event//EN
X-WR-TIMEZONE:Europe/Vienna
BEGIN:VEVENT
SUMMARY:Canon Foundation in Europe | Research Fellowships
DTSTART;VALUE=DATE:20210215
DTEND;VALUE=DATE:20210216
DTSTAMP:20260422T040521Z
UID:f48c142aa99c28396d0f60e9d84e417d@www.akbild.ac.at
CREATED:20220312T184908Z
DESCRIPTION:Annually\, the Canon Foundation in Europe grants up to 15 Fell
 owships to highly qualified European and Japanese researchers. European Fe
 llows are expected to pursue a period of research in Japan whereas Japanes
 e Fellows are expected to do their research in Europe.
LAST-MODIFIED:20240802T103247Z
URL:https://www.akbild.ac.at/en/research/art-research-service/calls-contes
 ts/2021/canon-foundation-in-europe-research-fellowships
END:VEVENT
END:VCALENDAR
