BEGIN:VCALENDAR
VERSION:2.0
PRODID:-//Plone.org//NONSGML plone.app.event//EN
X-WR-TIMEZONE:Europe/Vienna
BEGIN:VEVENT
SUMMARY:Dr. Maria Schaumayer Foundation| Prices for Final Theses
DTSTART;VALUE=DATE:20211015
DTEND;VALUE=DATE:20211016
DTSTAMP:20260423T101119Z
UID:3258545edb41eea9364e4696c6345234@www.akbild.ac.at
CREATED:20220312T185234Z
DESCRIPTION:The Dr. Maria Schaumayer Fundation was established in 1991 by 
 Dr. Maria Schaumayer herself to fund women in leading positions within eco
 nomy\, science and politics.
LAST-MODIFIED:20240802T103251Z
URL:https://www.akbild.ac.at/en/research/art-research-service/calls-contes
 ts/2021/dr.-maria-schaumayer-stiftung-stiftungs-und-foerderpreise
END:VEVENT
END:VCALENDAR
