BEGIN:VCALENDAR
VERSION:2.0
PRODID:-//Plone.org//NONSGML plone.app.event//EN
X-WR-TIMEZONE:Europe/Vienna
BEGIN:VEVENT
SUMMARY:ERC Advanced Grant 2021
DTSTART;VALUE=DATE:20210831
DTEND;VALUE=DATE:20210901
DTSTAMP:20260423T192626Z
UID:3019b1887044c9f6349115d35add1409@www.akbild.ac.at
CREATED:20220312T185205Z
DESCRIPTION:Are you an established\, leading principal investigator who wa
 nts long-term funding to pursue a ground-breaking\, high-risk project? The
  ERC Advanced Grant could be for you.
LAST-MODIFIED:20240802T103251Z
URL:https://www.akbild.ac.at/en/research/art-research-service/calls-contes
 ts/2021/erc-advanced-grant-2021
END:VEVENT
END:VCALENDAR
