BEGIN:VCALENDAR
VERSION:2.0
PRODID:-//Plone.org//NONSGML plone.app.event//EN
X-WR-TIMEZONE:Europe/Vienna
BEGIN:VEVENT
SUMMARY:Exhibit | Open Call for Exhibition Projects from fall 2022
DTSTART;TZID=Europe/Vienna:20211130T110000
DTSTAMP:20260423T230223Z
UID:74a23cb003fe26d9f93662969a39b4ca@www.akbild.ac.at
CREATED:20220312T185303Z
DESCRIPTION:As of now\, the Vice Rector’s Office for Art | Teaching of t
 he Academy of Fine Arts Vienna is accepting proposals for exhibition proje
 cts to be presented in the exhibition spaces of the Academy of Fine Arts V
 ienna – the Exhibit Galerie at Schillerplatz 3 as well as the Exhibit Es
 chenbachgasse at Eschenbachgasse 11/corner Getreidemarkt – starting from
  fall 2022 (see Appendix 1). The call addresses persons both outside and i
 nside the Academy.
LAST-MODIFIED:20240802T103251Z
URL:https://www.akbild.ac.at/en/research/art-research-service/calls-contes
 ts/2021/exhibit-ausstellungsprojekte-ab-herbst-2022
END:VEVENT
BEGIN:VTIMEZONE
TZID:Europe/Vienna
X-LIC-LOCATION:Europe/Vienna
BEGIN:STANDARD
DTSTART:20211031T020000
TZNAME:CET
TZOFFSETFROM:+0200
TZOFFSETTO:+0100
END:STANDARD
END:VTIMEZONE
END:VCALENDAR
