BEGIN:VCALENDAR
VERSION:2.0
PRODID:-//Plone.org//NONSGML plone.app.event//EN
X-WR-TIMEZONE:Europe/Vienna
BEGIN:VEVENT
SUMMARY:FWF | PEEK 2021
DTSTART;VALUE=DATE:20210528
DTEND;VALUE=DATE:20210529
DTSTAMP:20260425T195507Z
UID:c986b6a6851f5ecb65895bd6f88c1680@www.akbild.ac.at
CREATED:20220312T185100Z
DESCRIPTION:In connection with the 13th call in the Programme for Arts-Bas
 ed  Research (PEEK)\, the FWF invites the research community to submit  pr
 oject proposals.
LAST-MODIFIED:20240802T103247Z
URL:https://www.akbild.ac.at/en/research/art-research-service/calls-contes
 ts/2021/fwf-peek-2021
END:VEVENT
END:VCALENDAR
