BEGIN:VCALENDAR
VERSION:2.0
PRODID:-//Plone.org//NONSGML plone.app.event//EN
X-WR-TIMEZONE:Europe/Vienna
BEGIN:VEVENT
SUMMARY:FWF | Top Citizen Science 2021
DTSTART;TZID=Europe/Vienna:20210427T130000
DTSTAMP:20260424T145714Z
UID:e3645788cb82e45d3e2af0144616af63@www.akbild.ac.at
CREATED:20220312T185019Z
DESCRIPTION:Also in 2021\, the FWF would like to issue the next call for t
 he Top Citizen Science (TCS) funding initiative. The programme is addresse
 d to FWF principal investigators\, whose projects are scheduled to end on 
 November 30\, 2021 or later.
LAST-MODIFIED:20240802T103247Z
URL:https://www.akbild.ac.at/en/research/art-research-service/calls-contes
 ts/2021/fwf-top-citizen-science-2021
END:VEVENT
BEGIN:VTIMEZONE
TZID:Europe/Vienna
X-LIC-LOCATION:Europe/Vienna
BEGIN:DAYLIGHT
DTSTART:20210328T030000
TZNAME:CEST
TZOFFSETFROM:+0100
TZOFFSETTO:+0200
END:DAYLIGHT
END:VTIMEZONE
END:VCALENDAR
