BEGIN:VCALENDAR
VERSION:2.0
PRODID:-//Plone.org//NONSGML plone.app.event//EN
X-WR-TIMEZONE:Europe/Vienna
BEGIN:VEVENT
SUMMARY:Weave | New Call for Proposals Between FWF and FWO (Flanders)
DTSTART;VALUE=DATE:20210416
DTEND;VALUE=DATE:20210417
DTSTAMP:20260423T101239Z
UID:7960092cb32c703cbfa54be9f70e4066@www.akbild.ac.at
CREATED:20220312T185012Z
DESCRIPTION:In the framework of the Weave funding initiative\, FWF and its
  Flemish partner organization FWO have jointly launched a call for interna
 tional research projects. Proposals can be submitted either to FWF or to F
 WO as the Lead Agency.
LAST-MODIFIED:20240802T103247Z
URL:https://www.akbild.ac.at/en/research/art-research-service/calls-contes
 ts/2021/fwf-und-fwo-neue-ausschreibung-im-rahmen-von-weave
END:VEVENT
END:VCALENDAR
