BEGIN:VCALENDAR
VERSION:2.0
PRODID:-//Plone.org//NONSGML plone.app.event//EN
X-WR-TIMEZONE:Europe/Vienna
BEGIN:VEVENT
SUMMARY:FWF and NKFIH | Joint Projects Hungary and Austria
DTSTART;VALUE=DATE:20210318
DTEND;VALUE=DATE:20210319
DTSTAMP:20260426T034848Z
UID:5feb7040bcb88063db492778deec32b6@www.akbild.ac.at
CREATED:20220312T184934Z
DESCRIPTION:Since 2012\, the FWF together with the Hungarian funding organ
 isation NKFIH (National Research\, Development and Innovation Office)\, ha
 s been funding closely integrated research projects ("Joint Projects") of 
 researchers from Austria and Hungary.
LAST-MODIFIED:20240802T103247Z
URL:https://www.akbild.ac.at/en/research/art-research-service/calls-contes
 ts/2021/fwf-und-nkfih-bilaterale-projekte-ungarn-und-oesterreich
END:VEVENT
END:VCALENDAR
