BEGIN:VCALENDAR
VERSION:2.0
PRODID:-//Plone.org//NONSGML plone.app.event//EN
X-WR-TIMEZONE:Europe/Vienna
BEGIN:VEVENT
SUMMARY:FWF and RSF | Joint Projects Russia and Austria
DTSTART;VALUE=DATE:20210315
DTEND;VALUE=DATE:20210316
DTSTAMP:20260426T021942Z
UID:9eeb9ad58c73726668c9d316da0c0d71@www.akbild.ac.at
CREATED:20220312T184927Z
DESCRIPTION:To facilitate the support of collaborative work between Austri
 an and Russian research groups\, the Austrian Science Fund (FWF) and the R
 ussian Science Foundation (RSF) are organising the third joint call for Au
 strian-Russian cooperation projects ("joint projects").
LAST-MODIFIED:20240802T103247Z
URL:https://www.akbild.ac.at/en/research/art-research-service/calls-contes
 ts/2021/fwf-und-rsf-bilaterale-projekte-russland-und-oesterreich
END:VEVENT
END:VCALENDAR
