BEGIN:VCALENDAR
VERSION:2.0
PRODID:-//Plone.org//NONSGML plone.app.event//EN
X-WR-TIMEZONE:Europe/Vienna
BEGIN:VEVENT
SUMMARY:GEECT Conference | Transversal Entanglements - Artistic Research i
 n Film
DTSTART;VALUE=DATE:20210201
DTEND;VALUE=DATE:20210202
DTSTAMP:20260426T021942Z
UID:04256adaa9efc5e6ccfacfe39a163317@www.akbild.ac.at
CREATED:20220312T184902Z
DESCRIPTION:The conference will take place online in June 2021.
LAST-MODIFIED:20240802T103247Z
URL:https://www.akbild.ac.at/en/research/art-research-service/calls-contes
 ts/2021/geect-konferenz-transversal-entanglements-artistic-research-in-fil
 m
END:VEVENT
END:VCALENDAR
