BEGIN:VCALENDAR
VERSION:2.0
PRODID:-//Plone.org//NONSGML plone.app.event//EN
X-WR-TIMEZONE:Europe/Vienna
BEGIN:VEVENT
SUMMARY:IFK | Junior Fellowship 2021/22
DTSTART;VALUE=DATE:20210131
DTEND;VALUE=DATE:20210201
DTSTAMP:20260426T021224Z
UID:1460e30e65883d30561dd04956b55315@www.akbild.ac.at
CREATED:20220312T184854Z
DESCRIPTION:The IFK_Junior Fellowships are intended for young Austrian aca
 demics doing their dissertations\, as well as for non-Austrian doctoral st
 udents who are being supervised at an Austrian university.
LAST-MODIFIED:20240802T103247Z
URL:https://www.akbild.ac.at/en/research/art-research-service/calls-contes
 ts/2021/ifk-junior-fellowship-2021-22
END:VEVENT
END:VCALENDAR
