BEGIN:VCALENDAR
VERSION:2.0
PRODID:-//Plone.org//NONSGML plone.app.event//EN
X-WR-TIMEZONE:Europe/Vienna
BEGIN:VEVENT
SUMMARY:IFK | Summer Academy 2021
DTSTART;VALUE=DATE:20210413
DTEND;VALUE=DATE:20210414
DTSTAMP:20260425T195414Z
UID:c22568340a51328b56b6858915d60a84@www.akbild.ac.at
CREATED:20220312T185009Z
LAST-MODIFIED:20240802T103247Z
URL:https://www.akbild.ac.at/en/research/art-research-service/calls-contes
 ts/2021/ifk-sommerakademie-2020
END:VEVENT
END:VCALENDAR
