BEGIN:VCALENDAR
VERSION:2.0
PRODID:-//Plone.org//NONSGML plone.app.event//EN
X-WR-TIMEZONE:Europe/Vienna
BEGIN:VEVENT
SUMMARY:Kunstraum Lakeside | Statements 2021
DTSTART;VALUE=DATE:20210131
DTEND;VALUE=DATE:20210201
DTSTAMP:20260426T034633Z
UID:bf3527fa9baa5571db702e3c2c856989@www.akbild.ac.at
CREATED:20220312T184855Z
DESCRIPTION:Kunstraum Lakeside invites artists and cultural practitioners 
 to participate in its 2021 program with their own "Statement". We are in s
 earch of performative formats that relate to the Kunstraum’s annual topi
 c and experiment with modes of representation in the visual arts\, in the 
 context of an institution at the interface between art\, science\, and tec
 hnology. Annual topic for 2021: Future Perfect.
LAST-MODIFIED:20240802T103247Z
URL:https://www.akbild.ac.at/en/research/art-research-service/calls-contes
 ts/2021/kunstraum-lakeside-statements-2021
END:VEVENT
END:VCALENDAR
