BEGIN:VCALENDAR
VERSION:2.0
PRODID:-//Plone.org//NONSGML plone.app.event//EN
X-WR-TIMEZONE:Europe/Vienna
BEGIN:VEVENT
SUMMARY:March | Black Ecologies
DTSTART;VALUE=DATE:20210415
DTEND;VALUE=DATE:20210416
DTSTAMP:20260424T145714Z
UID:fa5ca4e2f682a61da673e9f60a787698@www.akbild.ac.at
CREATED:20220312T185011Z
DESCRIPTION:The journal March invites proposals for new or unpublished ess
 ays of approximately 2\,500 words to be considered for publishing.
LAST-MODIFIED:20240802T103247Z
URL:https://www.akbild.ac.at/en/research/art-research-service/calls-contes
 ts/2021/march-black-ecologies
END:VEVENT
END:VCALENDAR
