BEGIN:VCALENDAR
VERSION:2.0
PRODID:-//Plone.org//NONSGML plone.app.event//EN
X-WR-TIMEZONE:Europe/Vienna
BEGIN:VEVENT
SUMMARY:Call for Contributions: mdw | isaScience 2021
DTSTART;VALUE=DATE:20210228
DTEND;VALUE=DATE:20210301
DTSTAMP:20260423T084303Z
UID:8f5fbdc4895b688f1f8ee6baf8aecd29@www.akbild.ac.at
CREATED:20220312T184910Z
DESCRIPTION:isaScience is mdw's international conference for interdiscipli
 nary research on music and performing arts. isaScience 2021 focuses on cri
 tical perspectives on heroic imaginations\, cultic actions and the formati
 on and maintenance of canons.
LAST-MODIFIED:20240802T103247Z
URL:https://www.akbild.ac.at/en/research/art-research-service/calls-contes
 ts/2021/mdw-isascience-2021
END:VEVENT
END:VCALENDAR
