BEGIN:VCALENDAR
VERSION:2.0
PRODID:-//Plone.org//NONSGML plone.app.event//EN
X-WR-TIMEZONE:Europe/Vienna
BEGIN:VEVENT
SUMMARY:netidee and FWF | netidee Science
DTSTART;TZID=Europe/Vienna:20210412T140000
DTSTAMP:20260425T195507Z
UID:1d8aa062ec72fe9f2fe0b7696c9edf4e@www.akbild.ac.at
CREATED:20220312T185007Z
DESCRIPTION:Interested researchers can submit applications to the FWF for 
 stand-alone projects and Lise-Meitner to be funded by the Internet Foundat
 ion Austria (IPA) within the framework of its "netidee SCIENCE" initiative
 . This call is open to basic research proposals that aim to promote the In
 ternet in Austria as well as the technologies and methods necessary for th
 at purpose.
LAST-MODIFIED:20240802T103247Z
URL:https://www.akbild.ac.at/en/research/art-research-service/calls-contes
 ts/2021/netidee-und-fwf-netidee-sience
END:VEVENT
BEGIN:VTIMEZONE
TZID:Europe/Vienna
X-LIC-LOCATION:Europe/Vienna
BEGIN:DAYLIGHT
DTSTART:20210328T030000
TZNAME:CEST
TZOFFSETFROM:+0100
TZOFFSETTO:+0200
END:DAYLIGHT
END:VTIMEZONE
END:VCALENDAR
