BEGIN:VCALENDAR
VERSION:2.0
PRODID:-//Plone.org//NONSGML plone.app.event//EN
X-WR-TIMEZONE:Europe/Vienna
BEGIN:VEVENT
SUMMARY:ÖAW | Joint Excellence in Science and Humanities
DTSTART;VALUE=DATE:20210520
DTEND;VALUE=DATE:20210521
DTSTAMP:20260425T195415Z
UID:4a140a19bee05f4df719dfd4020c740d@www.akbild.ac.at
CREATED:20220312T185044Z
DESCRIPTION:JESH is a mobility program offered by the Austrian Academy of 
 Sciences that gives postdocs the opportunity to establish scientific colla
 borations in Austria (JESH Incoming) and in 55 different focus countries (
 JESH Outgoing) during research stays.
LAST-MODIFIED:20240802T103247Z
URL:https://www.akbild.ac.at/en/research/art-research-service/calls-contes
 ts/2021/oeaw-joint-excellence-in-science-and-humanities
END:VEVENT
END:VCALENDAR
