BEGIN:VCALENDAR
VERSION:2.0
PRODID:-//Plone.org//NONSGML plone.app.event//EN
X-WR-TIMEZONE:Europe/Vienna
BEGIN:VEVENT
SUMMARY:ÖAW | Roland Atefie Award
DTSTART;VALUE=DATE:20210409
DTEND;VALUE=DATE:20210410
DTSTAMP:20260425T212434Z
UID:edfa4f9e388937d5da8eddf1d61a5e23@www.akbild.ac.at
CREATED:20220312T185005Z
DESCRIPTION:The Roland Atefie Award recognises an outstanding doctoral the
 sis in the fields of philosophy\, theology or indology written at an Austr
 ian university no more than two years before the date of submission.
LAST-MODIFIED:20240802T103247Z
URL:https://www.akbild.ac.at/en/research/art-research-service/calls-contes
 ts/2021/oeaw-roland-atefie-preis
END:VEVENT
END:VCALENDAR
