BEGIN:VCALENDAR
VERSION:2.0
PRODID:-//Plone.org//NONSGML plone.app.event//EN
X-WR-TIMEZONE:Europe/Vienna
BEGIN:VEVENT
SUMMARY:B&C Private Foundation | Houska Prize 2021
DTSTART;VALUE=DATE:20210331
DTEND;VALUE=DATE:20210401
DTSTAMP:20260424T103032Z
UID:ada77418937255b04dc3fdf00a14473c@www.akbild.ac.at
CREATED:20220312T184947Z
DESCRIPTION:The B&amp\;C Private Foundation will present the Houska Prize 
 in the Higher Education Research and Research &amp\; Development in SMEs c
 ategories for the 16th time.
LAST-MODIFIED:20240802T103247Z
URL:https://www.akbild.ac.at/en/research/art-research-service/calls-contes
 ts/2021/p-c-privatstiftung-houskapreis-2021
END:VEVENT
END:VCALENDAR
