BEGIN:VCALENDAR
VERSION:2.0
PRODID:-//Plone.org//NONSGML plone.app.event//EN
X-WR-TIMEZONE:Europe/Vienna
BEGIN:VEVENT
SUMMARY:PROFFORMANCE | International Higher Education Teacher Award 2021/2
 2”
DTSTART;VALUE=DATE:20211215
DTEND;VALUE=DATE:20211216
DTSTAMP:20260420T144714Z
UID:21d1309eaf1b366ca98075c050836416@www.akbild.ac.at
CREATED:20220312T185312Z
DESCRIPTION:International prize for teaching excellence at higher educatio
 n institutions (HEI) in the European Higher Education Area (EHEA). The PRO
 FFORMANCE consortium announces an International Teacher Award in PROFFORMA
 NCE partner countries (Austria\, Croatia\, Czechia\, Georgia\, Hungary and
  Serbia).
LAST-MODIFIED:20240802T103251Z
URL:https://www.akbild.ac.at/en/research/art-research-service/calls-contes
 ts/2021/profformance-international-higher-education-teacher-award-2021-222
 01d
END:VEVENT
END:VCALENDAR
