BEGIN:VCALENDAR
VERSION:2.0
PRODID:-//Plone.org//NONSGML plone.app.event//EN
X-WR-TIMEZONE:Europe/Vienna
BEGIN:VEVENT
SUMMARY:Call for Contributions: Ruukuu | Everyday utopias and artistic res
 earch
DTSTART;VALUE=DATE:20210301
DTEND;VALUE=DATE:20210302
DTSTAMP:20260423T084605Z
UID:b72803348f6eb25ec819af1dd155f66b@www.akbild.ac.at
CREATED:20220312T184922Z
DESCRIPTION:Please submit your proposals (complete expositions) via Resear
 ch Catalogue.
LAST-MODIFIED:20240802T103247Z
URL:https://www.akbild.ac.at/en/research/art-research-service/calls-contes
 ts/2021/ruukuu-everyday-utopias-and-artistic-research
END:VEVENT
END:VCALENDAR
