BEGIN:VCALENDAR
VERSION:2.0
PRODID:-//Plone.org//NONSGML plone.app.event//EN
X-WR-TIMEZONE:Europe/Vienna
BEGIN:VEVENT
SUMMARY:SARN | to conference 2021
DTSTART;VALUE=DATE:20210331
DTEND;VALUE=DATE:20210401
DTSTAMP:20260424T120614Z
UID:2b307aa495a8bcb0fe857d070d5b6c2f@www.akbild.ac.at
CREATED:20220312T184944Z
DESCRIPTION:The call for the Swiss Artistic Research Network's conference 
 "Traversing Topologies: Imagining worlds and knowledge with/through artist
 ic research" is now open.
LAST-MODIFIED:20240802T103247Z
URL:https://www.akbild.ac.at/en/research/art-research-service/calls-contes
 ts/2021/sarn-to-conference-2021
END:VEVENT
END:VCALENDAR
