BEGIN:VCALENDAR
VERSION:2.0
PRODID:-//Plone.org//NONSGML plone.app.event//EN
X-WR-TIMEZONE:Europe/Vienna
BEGIN:VEVENT
SUMMARY:Strabag | Artaward International 2021
DTSTART;VALUE=DATE:20210205
DTEND;VALUE=DATE:20210206
DTSTAMP:20260426T003144Z
UID:1e3d3fa96c994ea7374762dc21edd37b@www.akbild.ac.at
CREATED:20220312T184904Z
DESCRIPTION:Strabag Artaward has been awarded in Austria since 1994 and in
 ternationally since 2009. The art prize awards artists up to the age of 40
  years\, working in the fields of painting and drawing. From 2021 to 2023\
 , artists from Austria\, as a permanent participating country\, and the Cz
 ech Republic\, Hungary\, Slovak Republic and Poland will be eligible to ap
 ply.
LAST-MODIFIED:20240802T103247Z
URL:https://www.akbild.ac.at/en/research/art-research-service/calls-contes
 ts/2021/strabag-artaward-international-2021
END:VEVENT
END:VCALENDAR
