BEGIN:VCALENDAR
VERSION:2.0
PRODID:-//Plone.org//NONSGML plone.app.event//EN
X-WR-TIMEZONE:Europe/Vienna
BEGIN:VEVENT
SUMMARY:Suahtsnuk | Exhibition
DTSTART;VALUE=DATE:20210416
DTEND;VALUE=DATE:20210417
DTSTAMP:20260425T195517Z
UID:b964ee276b14a4ac94f74946caff82b5@www.akbild.ac.at
CREATED:20220312T185015Z
DESCRIPTION:Suahtsnuk is an art project by Alfredo Barsuglia\, realized in
  collaboration with Kunsthaus Graz as part of "Showing Styria: what will b
 e. Towards a Plurality of Futures".
LAST-MODIFIED:20240802T103247Z
URL:https://www.akbild.ac.at/en/research/art-research-service/calls-contes
 ts/2021/suahtsnuk-ausstellungsmoeglichkeit
END:VEVENT
END:VCALENDAR
