BEGIN:VCALENDAR
VERSION:2.0
PRODID:-//Plone.org//NONSGML plone.app.event//EN
X-WR-TIMEZONE:Europe/Vienna
BEGIN:VEVENT
SUMMARY:ONB Labs | Web Residency 2022
DTSTART;VALUE=DATE:20220419
DTEND;VALUE=DATE:20220420
DTSTAMP:20260424T103017Z
UID:e7c802ec3775447ea6446a69952537dc@www.akbild.ac.at
CREATED:20220407T133515Z
DESCRIPTION:ONB Labs is pleased to announce our Web Residency programme 20
 22. Artists are invited to submit a proposal for a six-week Web Residency 
 project related to our digital collections of "Wiener Zeitung" (1780-1881)
  and/or of aerial photographs from the 1930s "Österreich aus der Luft".
LAST-MODIFIED:20240802T103256Z
URL:https://www.akbild.ac.at/en/research/art-research-service/calls-contes
 ts/2022/onb-labs-web-residency-2022
END:VEVENT
END:VCALENDAR
