BEGIN:VCALENDAR
VERSION:2.0
PRODID:-//Plone.org//NONSGML plone.app.event//EN
X-WR-TIMEZONE:Europe/Vienna
BEGIN:VEVENT
SUMMARY:Graduates’ Conference 2013|14
DTSTART;TZID=Europe/Vienna:20140122T103000
DTSTAMP:20260419T132114Z
UID:14dcc3935a6fa85e514c827db15827c3@www.akbild.ac.at
CATEGORIES:Konferenzen
CREATED:20220312T190128Z
LAST-MODIFIED:20240802T103338Z
URL:https://www.akbild.ac.at/en/research/events/conferences/2014/graduates
 2019-conference-2013-14
END:VEVENT
BEGIN:VTIMEZONE
TZID:Europe/Vienna
X-LIC-LOCATION:Europe/Vienna
BEGIN:STANDARD
DTSTART:20131027T020000
TZNAME:CET
TZOFFSETFROM:+0200
TZOFFSETTO:+0100
END:STANDARD
END:VTIMEZONE
END:VCALENDAR
