BEGIN:VCALENDAR
VERSION:2.0
PRODID:-//Plone.org//NONSGML plone.app.event//EN
X-WR-TIMEZONE:Europe/Vienna
BEGIN:VEVENT
SUMMARY:Graduates’ Conference 2014
DTSTART:20140616T000000Z
DTEND;TZID=Europe/Vienna:20140616T093000
DTSTAMP:20260424T221031Z
UID:b88032dfe1b72f6009648c8fe91ed996@www.akbild.ac.at
CATEGORIES:Konferenzen
CREATED:20220312T190128Z
LAST-MODIFIED:20240802T103338Z
URL:https://www.akbild.ac.at/en/research/events/conferences/2014/graduates
 2019-conference-2014
END:VEVENT
BEGIN:VTIMEZONE
TZID:Europe/Vienna
X-LIC-LOCATION:Europe/Vienna
BEGIN:DAYLIGHT
DTSTART:20140330T030000
TZNAME:CEST
TZOFFSETFROM:+0100
TZOFFSETTO:+0200
END:DAYLIGHT
END:VTIMEZONE
END:VCALENDAR
